BEGIN:VCALENDAR
VERSION:2.0
PRODID:-//Anjuman-e-Asghari - ECPv6.9.0//NONSGML v1.0//EN
CALSCALE:GREGORIAN
METHOD:PUBLISH
X-ORIGINAL-URL:https://mnjamaat.com
X-WR-CALDESC:Events for Anjuman-e-Asghari
REFRESH-INTERVAL;VALUE=DURATION:PT1H
X-Robots-Tag:noindex
X-PUBLISHED-TTL:PT1H
BEGIN:VTIMEZONE
TZID:America/Chicago
BEGIN:DAYLIGHT
TZOFFSETFROM:-0600
TZOFFSETTO:-0500
TZNAME:CDT
DTSTART:20230312T080000
END:DAYLIGHT
BEGIN:STANDARD
TZOFFSETFROM:-0500
TZOFFSETTO:-0600
TZNAME:CST
DTSTART:20231105T070000
END:STANDARD
BEGIN:DAYLIGHT
TZOFFSETFROM:-0600
TZOFFSETTO:-0500
TZNAME:CDT
DTSTART:20240310T080000
END:DAYLIGHT
BEGIN:STANDARD
TZOFFSETFROM:-0500
TZOFFSETTO:-0600
TZNAME:CST
DTSTART:20241103T070000
END:STANDARD
BEGIN:DAYLIGHT
TZOFFSETFROM:-0600
TZOFFSETTO:-0500
TZNAME:CDT
DTSTART:20250309T080000
END:DAYLIGHT
BEGIN:STANDARD
TZOFFSETFROM:-0500
TZOFFSETTO:-0600
TZNAME:CST
DTSTART:20251102T070000
END:STANDARD
END:VTIMEZONE
BEGIN:VEVENT
DTSTART;TZID=America/Chicago:20230924T192000
DTEND;TZID=America/Chicago:20230924T210000
DTSTAMP:20260425T223852
CREATED:20230919T161508Z
LAST-MODIFIED:20230919T161508Z
UID:9604-1695583200-1695589200@mnjamaat.com
SUMMARY:Eid-e-Zahra
DESCRIPTION:Sunday 9/24 – Eid-e-Zahra\nLocation: Imambargha \n7:24 PM Salaat\n7:50 PM Quran Recitation\n8:00 PM Hadith Al-Kisa\n8:10 PM Lecture by Sayyid Muntadher\n8:45 PM Qasida
URL:https://mnjamaat.com/event/eid-e-zahra/
LOCATION:Anjuman-e-Asghari\, 10301 Jefferson Highway\, Brooklyn Park\, MN\, 55445\, United States
CATEGORIES:Mosque Programs
END:VEVENT
BEGIN:VEVENT
DTSTART;TZID=America/Chicago:20230928T194500
DTEND;TZID=America/Chicago:20230928T213000
DTSTAMP:20260425T223852
CREATED:20230215T023114Z
LAST-MODIFIED:20230925T194910Z
UID:8023-1695930300-1695936600@mnjamaat.com
SUMMARY:Thursday Night Program
DESCRIPTION:Thursday 9/28 – Thursday Night Program\nLocation: Imambargha \n7:16 PM Salaat\n7:40 PM Ziyarat Waritha\n7:50 PM Quran Recitation\n8:00 PM Dua Kumayl\n8:25 PM Lecture\n8:50 PM Tabarruk
URL:https://mnjamaat.com/event/thursday-night-program-2023-09-28/
LOCATION:Anjuman-e-Asghari\, 10301 Jefferson Highway\, Brooklyn Park\, MN\, 55445\, United States
CATEGORIES:Mosque Programs
END:VEVENT
BEGIN:VEVENT
DTSTART;TZID=America/Chicago:20230929T130000
DTEND;TZID=America/Chicago:20230929T140000
DTSTAMP:20260425T223852
CREATED:20230215T023431Z
LAST-MODIFIED:20230925T194958Z
UID:9692-1695992400-1695996000@mnjamaat.com
SUMMARY:Salaat-ul-Jumaa (Friday Prayer)
DESCRIPTION:Location: Imambargah \n1:00 PM: Juma Salaat led by Sayyid Muntadher\n2:00 PM: End of Program
URL:https://mnjamaat.com/event/salaat-ul-jumaa-friday-prayer-2023-03-17-2023-09-22-2023-09-29/
LOCATION:Anjuman-e-Asghari\, 10301 Jefferson Highway\, Brooklyn Park\, MN\, 55445\, United States
CATEGORIES:Mosque Programs
END:VEVENT
BEGIN:VEVENT
DTSTART;TZID=America/Chicago:20231006T130000
DTEND;TZID=America/Chicago:20231006T140000
DTSTAMP:20260425T223852
CREATED:20230215T023431Z
LAST-MODIFIED:20231006T174820Z
UID:9693-1696597200-1696600800@mnjamaat.com
SUMMARY:Salaat-ul-Jumaa (Friday Prayer)
DESCRIPTION:Friday 10/6 – Jum’uah Salaat\nLocation: Imam Hussein Islamic Center (https://maps.app.goo.gl/UXKDnwATuBiDQUuz5) \nSalaat al-Jum’uah will be held at Imam Hussein Islamic Center starting at 1:01 PM.
URL:https://mnjamaat.com/event/salaat-ul-jumaa-friday-prayer-2023-03-17-2023-09-22-2023-10-06/
LOCATION:Imam Hussein Islamic Center\, 6120 Brooklyn Blvd\, Minneapolis\, MN\, 55429\, United States
CATEGORIES:Mosque Programs
END:VEVENT
BEGIN:VEVENT
DTSTART;TZID=America/Chicago:20231218T190000
DTEND;TZID=America/Chicago:20231218T210000
DTSTAMP:20260425T223852
CREATED:20231218T232115Z
LAST-MODIFIED:20231218T232139Z
UID:10296-1702926000-1702933200@mnjamaat.com
SUMMARY:Majlis in Esale Sawab of Marhooma Monina Ghazala Ghazalbash (Ghazala Aunty)
DESCRIPTION:Monday 12/18 – Majlis in Esale Sawab of Marhooma Monina Ghazala Ghazalbash (Ghazala Aunty)\nLocation: Imambargah \n7:00 PM Niaz\n7:45 PM Surah Yaseen\n8:00 PM Marsiya\n8:10 PM Lecture\n8:30 PM Nawha\n8:40 PM Ziyarat
URL:https://mnjamaat.com/event/majlis-in-esale-sawab-of-marhooma-monina-ghazala-ghazalbash-ghazala-aunty/
LOCATION:Anjuman-e-Asghari\, 10301 Jefferson Highway\, Brooklyn Park\, MN\, 55445\, United States
CATEGORIES:Mosque Programs
END:VEVENT
BEGIN:VEVENT
DTSTART;TZID=America/Chicago:20240102T193000
DTEND;TZID=America/Chicago:20240102T210000
DTSTAMP:20260425T223852
CREATED:20240102T000608Z
LAST-MODIFIED:20240102T000627Z
UID:10345-1704223800-1704229200@mnjamaat.com
SUMMARY:Wiladat Eve of Bibi Fatimah (a.s.)
DESCRIPTION:Tuesday 1/2 – Wiladat Eve of Bibi Fatimah (a.s.)\nLocation: Imambargha \n7:30 PM Quran Recitation\n7:40 PM Hadith al-Kisa\n7:55 PM Lecture by Sheikh Ahmad Alhaeri\n8:25 PM Qasida\n8:40 PM Nasheed\n8:50 PM Q&A with Sheikh Alhaeri & Sayyid Muntadher\n9:05 PM Tabarruk
URL:https://mnjamaat.com/event/wiladat-eve-of-bibi-fatimah-a-s/
LOCATION:Anjuman-e-Asghari\, 10301 Jefferson Highway\, Brooklyn Park\, MN\, 55445\, United States
CATEGORIES:Mosque Programs
ORGANIZER;CN="Anjuman-e-Asghari":MAILTO:office@mnjamaat.com
END:VEVENT
BEGIN:VEVENT
DTSTART;TZID=America/Chicago:20240112T193000
DTEND;TZID=America/Chicago:20240112T204000
DTSTAMP:20260425T223852
CREATED:20240106T204028Z
LAST-MODIFIED:20240106T204248Z
UID:10352-1705087800-1705092000@mnjamaat.com
SUMMARY:Wiladat Eve of Imam Muhammad Al-Baqir (a.s.)
DESCRIPTION:Friday 1/12- Wiladat Eve of Imam Muhammad Al-Baqir (a.s.)\nLocation: Imambargha\n7:30 PM Quran Recitation\n7:40 PM Hadith al-Kisa\n7:55 PM Lecture by Sayyid Muntadher\n8:25 PM Qasida\n8:40 PM Tabarruk
URL:https://mnjamaat.com/event/wiladat-eve-of-imam-muhammad-al-baqir-a-s/
LOCATION:Anjuman-e-Asghari\, 10301 Jefferson Highway\, Brooklyn Park\, MN\, 55445\, United States
CATEGORIES:Mosque Programs
ORGANIZER;CN="Anjuman-e-Asghari":MAILTO:office@mnjamaat.com
END:VEVENT
BEGIN:VEVENT
DTSTART;TZID=America/Chicago:20240119T190000
DTEND;TZID=America/Chicago:20240119T200000
DTSTAMP:20260425T223852
CREATED:20240113T191124Z
LAST-MODIFIED:20240113T191153Z
UID:10375-1705690800-1705694400@mnjamaat.com
SUMMARY:Quranic Vocabulary with Sayyid Muntadher
DESCRIPTION:Quranic Vocabulary with Sayyid Muntadher\nLocation: Imambargha\n7:00 PM Quranic Vocabulary with Sayyid Muntadher\n8:00 PM End of Program
URL:https://mnjamaat.com/event/quranic-vocabulary-with-sayyid-muntadher/2024-01-19/
LOCATION:Anjuman-e-Asghari\, 10301 Jefferson Highway\, Brooklyn Park\, MN\, 55445\, United States
CATEGORIES:Mosque Programs
END:VEVENT
BEGIN:VEVENT
DTSTART;TZID=America/Chicago:20240205T193000
DTEND;TZID=America/Chicago:20240205T203000
DTSTAMP:20260425T223852
CREATED:20240207T165954Z
LAST-MODIFIED:20240207T165954Z
UID:10442-1707161400-1707165000@mnjamaat.com
SUMMARY:Shahadat Eve of Imam Musa Al-Kadhim (a.s.) and observed Shahadat of Hadhrat Abu Talib (a.s.)
DESCRIPTION:Monday 2/5 – Shahadat Eve of Imam Musa Al-Kadhim (a.s.) and observed Shahadat of Hadhrat Abu Talib (a.s.)\nLocation: Imambargha\n7:30 PM Quran Recitation\n7:40 PM Marsiya\n7:50 PM Lecture by Sayyid Muntadher\n8:20 PM Nawha\n8:30 PM Ziyarat/Tabarruk
URL:https://mnjamaat.com/event/shahadat-eve-of-imam-musa-al-kadhim-a-s-and-observed-shahadat-of-hadhrat-abu-talib-a-s/
LOCATION:Anjuman-e-Asghari\, 10301 Jefferson Highway\, Brooklyn Park\, MN\, 55445\, United States
CATEGORIES:Mosque Programs
END:VEVENT
BEGIN:VEVENT
DTSTART;TZID=America/Chicago:20240207T174500
DTEND;TZID=America/Chicago:20240207T200000
DTSTAMP:20260425T223852
CREATED:20240207T170116Z
LAST-MODIFIED:20240207T170116Z
UID:10444-1707327900-1707336000@mnjamaat.com
SUMMARY:Eve of Me’raj and Mab’ath
DESCRIPTION:Wednesday 2/7 – Eve of Me’raj and Mab’ath\nLocation: Imambargha\n5:48 PM Salaat\n6:10 PM Niaz\n7:00 PM Hadith Al-Kisa\n7:15 PM Lecture by Sayyid Muntadher\n7:45 PM Qasida\n8:00 PM Ziyarat/Tabarruk
URL:https://mnjamaat.com/event/eve-of-meraj-and-mabath/
LOCATION:Anjuman-e-Asghari\, 10301 Jefferson Highway\, Brooklyn Park\, MN\, 55445\, United States
CATEGORIES:Mosque Programs
END:VEVENT
BEGIN:VEVENT
DTSTART;TZID=America/Chicago:20240213T193000
DTEND;TZID=America/Chicago:20240213T203500
DTSTAMP:20260425T223852
CREATED:20240211T182726Z
LAST-MODIFIED:20240211T182726Z
UID:10452-1707852600-1707856500@mnjamaat.com
SUMMARY:Wiladat Eve of Hazrat Abbas (a.s.)
DESCRIPTION:Tuesday 2/13 – Wiladat Eve of Hazrat Abbas (a.s.)\nLocation: Imambargha\n7:30 PM Quran Recitation\n7:40 PM Hadith al-Kisa\n7:55 PM Lecture by Sayyid Muntadher\n8:20 PM Qasida\n8:35 PM Ziyarat/Tabarruk
URL:https://mnjamaat.com/event/wiladat-eve-of-hazrat-abbas-a-s/
LOCATION:Anjuman-e-Asghari\, 10301 Jefferson Highway\, Brooklyn Park\, MN\, 55445\, United States
CATEGORIES:Mosque Programs
ORGANIZER;CN="Anjuman-e-Asghari":MAILTO:office@mnjamaat.com
END:VEVENT
BEGIN:VEVENT
DTSTART;TZID=America/Chicago:20240215T190000
DTEND;TZID=America/Chicago:20240215T203000
DTSTAMP:20260425T223852
CREATED:20231213T225751Z
LAST-MODIFIED:20240212T042659Z
UID:10283-1708023600-1708029000@mnjamaat.com
SUMMARY:Thursday Night Program - Wiladat Day of Imam Zain Al-Abideen (a.s)
DESCRIPTION:Thursday 2/15 – Thursday Night Program – Wiladat Day of Imam Zain Al-Abideen (a.s)\nLocation: Imambargha\n7:00 PM Surah Yaseen\n7:15 PM Dua Kumayl\n7:40 PM Lecture by Al-Hajj Hussein Walji\n8:05 PM Qasida\n8:15 PM Ziyarat Waritha\n8:25 PM Tabarruk
URL:https://mnjamaat.com/event/thursday-night-program-2024-02-15/
LOCATION:Anjuman-e-Asghari\, 10301 Jefferson Highway\, Brooklyn Park\, MN\, 55445\, United States
CATEGORIES:Mosque Programs
END:VEVENT
BEGIN:VEVENT
DTSTART;TZID=America/Chicago:20240817T063000
DTEND;TZID=America/Chicago:20240817T083000
DTSTAMP:20260425T223852
CREATED:20230208T215256Z
LAST-MODIFIED:20240401T173353Z
UID:10487-1723876200-1723883400@mnjamaat.com
SUMMARY:Salaat-ul-Fajr (Morning Prayer) & Tafseer
DESCRIPTION:Location: Imambargah \n6:30 AM: Fajr Salaat\n6:45 AM: Breakfast\n7:15 AM: Tafseer\n8:15 AM: End of Program
URL:https://mnjamaat.com/event/fajr-namaaz-2024-08-17/
LOCATION:Anjuman-e-Asghari\, 10301 Jefferson Highway\, Brooklyn Park\, MN\, 55445\, United States
CATEGORIES:Mosque Programs
ORGANIZER;CN="Anjuman-e-Asghari":MAILTO:office@mnjamaat.com
END:VEVENT
BEGIN:VEVENT
DTSTART;TZID=America/Chicago:20250501T193000
DTEND;TZID=America/Chicago:20250501T210000
DTSTAMP:20260425T223852
CREATED:20230215T023114Z
LAST-MODIFIED:20230215T023114Z
UID:10902-1746127800-1746133200@mnjamaat.com
SUMMARY:Thursday Night Program
DESCRIPTION:Location: Imambargah \n7:30 PM – Surah Yasin\n7:40 PM – Dua Kumail\n8:00 PM – Lecture\n8:35 PM – Ziyarat Waritha\n8:45 PM – Tabarruk
URL:https://mnjamaat.com/event/thursday-night-program-2023-03-02/2025-05-01/
LOCATION:Anjuman-e-Asghari\, 10301 Jefferson Highway\, Brooklyn Park\, MN\, 55445\, United States
CATEGORIES:Mosque Programs
END:VEVENT
BEGIN:VEVENT
DTSTART;TZID=America/Chicago:20250508T193000
DTEND;TZID=America/Chicago:20250508T210000
DTSTAMP:20260425T223852
CREATED:20230215T023114Z
LAST-MODIFIED:20230215T023114Z
UID:10904-1746732600-1746738000@mnjamaat.com
SUMMARY:Thursday Night Program
DESCRIPTION:Location: Imambargah \n7:30 PM – Surah Yasin\n7:40 PM – Dua Kumail\n8:00 PM – Lecture\n8:35 PM – Ziyarat Waritha\n8:45 PM – Tabarruk
URL:https://mnjamaat.com/event/thursday-night-program-2023-03-02/2025-05-08/
LOCATION:Anjuman-e-Asghari\, 10301 Jefferson Highway\, Brooklyn Park\, MN\, 55445\, United States
CATEGORIES:Mosque Programs
END:VEVENT
BEGIN:VEVENT
DTSTART;TZID=America/Chicago:20250509T132000
DTEND;TZID=America/Chicago:20250509T142000
DTSTAMP:20260425T223852
CREATED:20230215T023431Z
LAST-MODIFIED:20230215T023431Z
UID:10905-1746796800-1746800400@mnjamaat.com
SUMMARY:Salaat-ul-Jumaa (Friday Prayer)
DESCRIPTION:Location: Imambargah \n1:20 PM: Juma Salaat led by Sayyid Muntadher\n2:10 PM: End of Program
URL:https://mnjamaat.com/event/salaat-ul-jumaa-friday-prayer-2023-03-17/2025-05-09/
LOCATION:Anjuman-e-Asghari\, 10301 Jefferson Highway\, Brooklyn Park\, MN\, 55445\, United States
CATEGORIES:Mosque Programs
END:VEVENT
BEGIN:VEVENT
DTSTART;TZID=America/Chicago:20250515T193000
DTEND;TZID=America/Chicago:20250515T210000
DTSTAMP:20260425T223852
CREATED:20230215T023114Z
LAST-MODIFIED:20230215T023114Z
UID:10907-1747337400-1747342800@mnjamaat.com
SUMMARY:Thursday Night Program
DESCRIPTION:Location: Imambargah \n7:30 PM – Surah Yasin\n7:40 PM – Dua Kumail\n8:00 PM – Lecture\n8:35 PM – Ziyarat Waritha\n8:45 PM – Tabarruk
URL:https://mnjamaat.com/event/thursday-night-program-2023-03-02/2025-05-15/
LOCATION:Anjuman-e-Asghari\, 10301 Jefferson Highway\, Brooklyn Park\, MN\, 55445\, United States
CATEGORIES:Mosque Programs
END:VEVENT
BEGIN:VEVENT
DTSTART;TZID=America/Chicago:20250516T132000
DTEND;TZID=America/Chicago:20250516T142000
DTSTAMP:20260425T223852
CREATED:20230215T023431Z
LAST-MODIFIED:20230215T023431Z
UID:10923-1747401600-1747405200@mnjamaat.com
SUMMARY:Salaat-ul-Jumaa (Friday Prayer)
DESCRIPTION:Location: Imambargah \n1:20 PM: Juma Salaat led by Sayyid Muntadher\n2:10 PM: End of Program
URL:https://mnjamaat.com/event/salaat-ul-jumaa-friday-prayer-2023-03-17/2025-05-16/
LOCATION:Anjuman-e-Asghari\, 10301 Jefferson Highway\, Brooklyn Park\, MN\, 55445\, United States
CATEGORIES:Mosque Programs
END:VEVENT
BEGIN:VEVENT
DTSTART;TZID=America/Chicago:20250522T193000
DTEND;TZID=America/Chicago:20250522T210000
DTSTAMP:20260425T223852
CREATED:20230215T023114Z
LAST-MODIFIED:20230215T023114Z
UID:10949-1747942200-1747947600@mnjamaat.com
SUMMARY:Thursday Night Program
DESCRIPTION:Location: Imambargah \n7:30 PM – Surah Yasin\n7:40 PM – Dua Kumail\n8:00 PM – Lecture\n8:35 PM – Ziyarat Waritha\n8:45 PM – Tabarruk
URL:https://mnjamaat.com/event/thursday-night-program-2023-03-02/2025-05-22/
LOCATION:Anjuman-e-Asghari\, 10301 Jefferson Highway\, Brooklyn Park\, MN\, 55445\, United States
CATEGORIES:Mosque Programs
END:VEVENT
BEGIN:VEVENT
DTSTART;TZID=America/Chicago:20250523T132000
DTEND;TZID=America/Chicago:20250523T142000
DTSTAMP:20260425T223852
CREATED:20230215T023431Z
LAST-MODIFIED:20230215T023431Z
UID:10950-1748006400-1748010000@mnjamaat.com
SUMMARY:Salaat-ul-Jumaa (Friday Prayer)
DESCRIPTION:Location: Imambargah \n1:20 PM: Juma Salaat led by Sayyid Muntadher\n2:10 PM: End of Program
URL:https://mnjamaat.com/event/salaat-ul-jumaa-friday-prayer-2023-03-17/2025-05-23/
LOCATION:Anjuman-e-Asghari\, 10301 Jefferson Highway\, Brooklyn Park\, MN\, 55445\, United States
CATEGORIES:Mosque Programs
END:VEVENT
BEGIN:VEVENT
DTSTART;TZID=America/Chicago:20250529T193000
DTEND;TZID=America/Chicago:20250529T210000
DTSTAMP:20260425T223852
CREATED:20230215T023114Z
LAST-MODIFIED:20230215T023114Z
UID:10954-1748547000-1748552400@mnjamaat.com
SUMMARY:Thursday Night Program
DESCRIPTION:Location: Imambargah \n7:30 PM – Surah Yasin\n7:40 PM – Dua Kumail\n8:00 PM – Lecture\n8:35 PM – Ziyarat Waritha\n8:45 PM – Tabarruk
URL:https://mnjamaat.com/event/thursday-night-program-2023-03-02/2025-05-29/
LOCATION:Anjuman-e-Asghari\, 10301 Jefferson Highway\, Brooklyn Park\, MN\, 55445\, United States
CATEGORIES:Mosque Programs
END:VEVENT
BEGIN:VEVENT
DTSTART;TZID=America/Chicago:20250530T132000
DTEND;TZID=America/Chicago:20250530T142000
DTSTAMP:20260425T223852
CREATED:20230215T023431Z
LAST-MODIFIED:20230215T023431Z
UID:10955-1748611200-1748614800@mnjamaat.com
SUMMARY:Salaat-ul-Jumaa (Friday Prayer)
DESCRIPTION:Location: Imambargah \n1:20 PM: Juma Salaat led by Sayyid Muntadher\n2:10 PM: End of Program
URL:https://mnjamaat.com/event/salaat-ul-jumaa-friday-prayer-2023-03-17/2025-05-30/
LOCATION:Anjuman-e-Asghari\, 10301 Jefferson Highway\, Brooklyn Park\, MN\, 55445\, United States
CATEGORIES:Mosque Programs
END:VEVENT
BEGIN:VEVENT
DTSTART;TZID=America/Chicago:20250605T193000
DTEND;TZID=America/Chicago:20250605T210000
DTSTAMP:20260425T223852
CREATED:20230215T023114Z
LAST-MODIFIED:20230215T023114Z
UID:10967-1749151800-1749157200@mnjamaat.com
SUMMARY:Thursday Night Program
DESCRIPTION:Location: Imambargah \n7:30 PM – Surah Yasin\n7:40 PM – Dua Kumail\n8:00 PM – Lecture\n8:35 PM – Ziyarat Waritha\n8:45 PM – Tabarruk
URL:https://mnjamaat.com/event/thursday-night-program-2023-03-02/2025-06-05/
LOCATION:Anjuman-e-Asghari\, 10301 Jefferson Highway\, Brooklyn Park\, MN\, 55445\, United States
CATEGORIES:Mosque Programs
END:VEVENT
BEGIN:VEVENT
DTSTART;TZID=America/Chicago:20250606T132000
DTEND;TZID=America/Chicago:20250606T142000
DTSTAMP:20260425T223852
CREATED:20230215T023431Z
LAST-MODIFIED:20230215T023431Z
UID:10968-1749216000-1749219600@mnjamaat.com
SUMMARY:Salaat-ul-Jumaa (Friday Prayer)
DESCRIPTION:Location: Imambargah \n1:20 PM: Juma Salaat led by Sayyid Muntadher\n2:10 PM: End of Program
URL:https://mnjamaat.com/event/salaat-ul-jumaa-friday-prayer-2023-03-17/2025-06-06/
LOCATION:Anjuman-e-Asghari\, 10301 Jefferson Highway\, Brooklyn Park\, MN\, 55445\, United States
CATEGORIES:Mosque Programs
END:VEVENT
BEGIN:VEVENT
DTSTART;TZID=America/Chicago:20250612T193000
DTEND;TZID=America/Chicago:20250612T210000
DTSTAMP:20260425T223852
CREATED:20230215T023114Z
LAST-MODIFIED:20230215T023114Z
UID:10975-1749756600-1749762000@mnjamaat.com
SUMMARY:Thursday Night Program
DESCRIPTION:Location: Imambargah \n7:30 PM – Surah Yasin\n7:40 PM – Dua Kumail\n8:00 PM – Lecture\n8:35 PM – Ziyarat Waritha\n8:45 PM – Tabarruk
URL:https://mnjamaat.com/event/thursday-night-program-2023-03-02/2025-06-12/
LOCATION:Anjuman-e-Asghari\, 10301 Jefferson Highway\, Brooklyn Park\, MN\, 55445\, United States
CATEGORIES:Mosque Programs
END:VEVENT
BEGIN:VEVENT
DTSTART;TZID=America/Chicago:20250613T132000
DTEND;TZID=America/Chicago:20250613T142000
DTSTAMP:20260425T223852
CREATED:20230215T023431Z
LAST-MODIFIED:20230215T023431Z
UID:10976-1749820800-1749824400@mnjamaat.com
SUMMARY:Salaat-ul-Jumaa (Friday Prayer)
DESCRIPTION:Location: Imambargah \n1:20 PM: Juma Salaat led by Sayyid Muntadher\n2:10 PM: End of Program
URL:https://mnjamaat.com/event/salaat-ul-jumaa-friday-prayer-2023-03-17/2025-06-13/
LOCATION:Anjuman-e-Asghari\, 10301 Jefferson Highway\, Brooklyn Park\, MN\, 55445\, United States
CATEGORIES:Mosque Programs
END:VEVENT
BEGIN:VEVENT
DTSTART;TZID=America/Chicago:20250619T193000
DTEND;TZID=America/Chicago:20250619T210000
DTSTAMP:20260425T223852
CREATED:20230215T023114Z
LAST-MODIFIED:20230215T023114Z
UID:10992-1750361400-1750366800@mnjamaat.com
SUMMARY:Thursday Night Program
DESCRIPTION:Location: Imambargah \n7:30 PM – Surah Yasin\n7:40 PM – Dua Kumail\n8:00 PM – Lecture\n8:35 PM – Ziyarat Waritha\n8:45 PM – Tabarruk
URL:https://mnjamaat.com/event/thursday-night-program-2023-03-02/2025-06-19/
LOCATION:Anjuman-e-Asghari\, 10301 Jefferson Highway\, Brooklyn Park\, MN\, 55445\, United States
CATEGORIES:Mosque Programs
END:VEVENT
BEGIN:VEVENT
DTSTART;TZID=America/Chicago:20250620T132000
DTEND;TZID=America/Chicago:20250620T142000
DTSTAMP:20260425T223852
CREATED:20230215T023431Z
LAST-MODIFIED:20230215T023431Z
UID:10993-1750425600-1750429200@mnjamaat.com
SUMMARY:Salaat-ul-Jumaa (Friday Prayer)
DESCRIPTION:Location: Imambargah \n1:20 PM: Juma Salaat led by Sayyid Muntadher\n2:10 PM: End of Program
URL:https://mnjamaat.com/event/salaat-ul-jumaa-friday-prayer-2023-03-17/2025-06-20/
LOCATION:Anjuman-e-Asghari\, 10301 Jefferson Highway\, Brooklyn Park\, MN\, 55445\, United States
CATEGORIES:Mosque Programs
END:VEVENT
BEGIN:VEVENT
DTSTART;TZID=America/Chicago:20250626T193000
DTEND;TZID=America/Chicago:20250626T210000
DTSTAMP:20260425T223852
CREATED:20230215T023114Z
LAST-MODIFIED:20230215T023114Z
UID:10994-1750966200-1750971600@mnjamaat.com
SUMMARY:Thursday Night Program
DESCRIPTION:Location: Imambargah \n7:30 PM – Surah Yasin\n7:40 PM – Dua Kumail\n8:00 PM – Lecture\n8:35 PM – Ziyarat Waritha\n8:45 PM – Tabarruk
URL:https://mnjamaat.com/event/thursday-night-program-2023-03-02/2025-06-26/
LOCATION:Anjuman-e-Asghari\, 10301 Jefferson Highway\, Brooklyn Park\, MN\, 55445\, United States
CATEGORIES:Mosque Programs
END:VEVENT
BEGIN:VEVENT
DTSTART;TZID=America/Chicago:20250627T132000
DTEND;TZID=America/Chicago:20250627T142000
DTSTAMP:20260425T223852
CREATED:20230215T023431Z
LAST-MODIFIED:20230215T023431Z
UID:10995-1751030400-1751034000@mnjamaat.com
SUMMARY:Salaat-ul-Jumaa (Friday Prayer)
DESCRIPTION:Location: Imambargah \n1:20 PM: Juma Salaat led by Sayyid Muntadher\n2:10 PM: End of Program
URL:https://mnjamaat.com/event/salaat-ul-jumaa-friday-prayer-2023-03-17/2025-06-27/
LOCATION:Anjuman-e-Asghari\, 10301 Jefferson Highway\, Brooklyn Park\, MN\, 55445\, United States
CATEGORIES:Mosque Programs
END:VEVENT
END:VCALENDAR