BEGIN:VCALENDAR
VERSION:2.0
PRODID:-//Anjuman-e-Asghari - ECPv6.9.0//NONSGML v1.0//EN
CALSCALE:GREGORIAN
METHOD:PUBLISH
X-ORIGINAL-URL:https://mnjamaat.com
X-WR-CALDESC:Events for Anjuman-e-Asghari
REFRESH-INTERVAL;VALUE=DURATION:PT1H
X-Robots-Tag:noindex
X-PUBLISHED-TTL:PT1H
BEGIN:VTIMEZONE
TZID:America/Chicago
BEGIN:DAYLIGHT
TZOFFSETFROM:-0600
TZOFFSETTO:-0500
TZNAME:CDT
DTSTART:20250309T080000
END:DAYLIGHT
BEGIN:STANDARD
TZOFFSETFROM:-0500
TZOFFSETTO:-0600
TZNAME:CST
DTSTART:20251102T070000
END:STANDARD
END:VTIMEZONE
BEGIN:VEVENT
DTSTART;TZID=America/Chicago:20251106T193000
DTEND;TZID=America/Chicago:20251106T210000
DTSTAMP:20260423T133827
CREATED:20230215T023114Z
LAST-MODIFIED:20230215T023114Z
UID:11090-1762457400-1762462800@mnjamaat.com
SUMMARY:Thursday Night Program
DESCRIPTION:Location: Imambargah \n7:30 PM – Surah Yasin\n7:40 PM – Dua Kumail\n8:00 PM – Lecture\n8:35 PM – Ziyarat Waritha\n8:45 PM – Tabarruk
URL:https://mnjamaat.com/event/thursday-night-program-2023-03-02/2025-11-06/
LOCATION:Anjuman-e-Asghari\, 10301 Jefferson Highway\, Brooklyn Park\, MN\, 55445\, United States
CATEGORIES:Mosque Programs
END:VEVENT
BEGIN:VEVENT
DTSTART;TZID=America/Chicago:20251107T132000
DTEND;TZID=America/Chicago:20251107T142000
DTSTAMP:20260423T133827
CREATED:20230215T023431Z
LAST-MODIFIED:20230215T023431Z
UID:11091-1762521600-1762525200@mnjamaat.com
SUMMARY:Salaat-ul-Jumaa (Friday Prayer)
DESCRIPTION:Location: Imambargah \n1:20 PM: Juma Salaat led by Sayyid Muntadher\n2:10 PM: End of Program
URL:https://mnjamaat.com/event/salaat-ul-jumaa-friday-prayer-2023-03-17/2025-11-07/
LOCATION:Anjuman-e-Asghari\, 10301 Jefferson Highway\, Brooklyn Park\, MN\, 55445\, United States
CATEGORIES:Mosque Programs
END:VEVENT
BEGIN:VEVENT
DTSTART;TZID=America/Chicago:20251113T193000
DTEND;TZID=America/Chicago:20251113T210000
DTSTAMP:20260423T133827
CREATED:20230215T023114Z
LAST-MODIFIED:20230215T023114Z
UID:11092-1763062200-1763067600@mnjamaat.com
SUMMARY:Thursday Night Program
DESCRIPTION:Location: Imambargah \n7:30 PM – Surah Yasin\n7:40 PM – Dua Kumail\n8:00 PM – Lecture\n8:35 PM – Ziyarat Waritha\n8:45 PM – Tabarruk
URL:https://mnjamaat.com/event/thursday-night-program-2023-03-02/2025-11-13/
LOCATION:Anjuman-e-Asghari\, 10301 Jefferson Highway\, Brooklyn Park\, MN\, 55445\, United States
CATEGORIES:Mosque Programs
END:VEVENT
BEGIN:VEVENT
DTSTART;TZID=America/Chicago:20251114T132000
DTEND;TZID=America/Chicago:20251114T142000
DTSTAMP:20260423T133827
CREATED:20230215T023431Z
LAST-MODIFIED:20230215T023431Z
UID:11093-1763126400-1763130000@mnjamaat.com
SUMMARY:Salaat-ul-Jumaa (Friday Prayer)
DESCRIPTION:Location: Imambargah \n1:20 PM: Juma Salaat led by Sayyid Muntadher\n2:10 PM: End of Program
URL:https://mnjamaat.com/event/salaat-ul-jumaa-friday-prayer-2023-03-17/2025-11-14/
LOCATION:Anjuman-e-Asghari\, 10301 Jefferson Highway\, Brooklyn Park\, MN\, 55445\, United States
CATEGORIES:Mosque Programs
END:VEVENT
BEGIN:VEVENT
DTSTART;TZID=America/Chicago:20251120T193000
DTEND;TZID=America/Chicago:20251120T210000
DTSTAMP:20260423T133827
CREATED:20230215T023114Z
LAST-MODIFIED:20230215T023114Z
UID:11095-1763667000-1763672400@mnjamaat.com
SUMMARY:Thursday Night Program
DESCRIPTION:Location: Imambargah \n7:30 PM – Surah Yasin\n7:40 PM – Dua Kumail\n8:00 PM – Lecture\n8:35 PM – Ziyarat Waritha\n8:45 PM – Tabarruk
URL:https://mnjamaat.com/event/thursday-night-program-2023-03-02/2025-11-20/
LOCATION:Anjuman-e-Asghari\, 10301 Jefferson Highway\, Brooklyn Park\, MN\, 55445\, United States
CATEGORIES:Mosque Programs
END:VEVENT
BEGIN:VEVENT
DTSTART;TZID=America/Chicago:20251121T132000
DTEND;TZID=America/Chicago:20251121T142000
DTSTAMP:20260423T133827
CREATED:20230215T023431Z
LAST-MODIFIED:20230215T023431Z
UID:11096-1763731200-1763734800@mnjamaat.com
SUMMARY:Salaat-ul-Jumaa (Friday Prayer)
DESCRIPTION:Location: Imambargah \n1:20 PM: Juma Salaat led by Sayyid Muntadher\n2:10 PM: End of Program
URL:https://mnjamaat.com/event/salaat-ul-jumaa-friday-prayer-2023-03-17/2025-11-21/
LOCATION:Anjuman-e-Asghari\, 10301 Jefferson Highway\, Brooklyn Park\, MN\, 55445\, United States
CATEGORIES:Mosque Programs
END:VEVENT
BEGIN:VEVENT
DTSTART;TZID=America/Chicago:20251127T193000
DTEND;TZID=America/Chicago:20251127T210000
DTSTAMP:20260423T133827
CREATED:20230215T023114Z
LAST-MODIFIED:20230215T023114Z
UID:11097-1764271800-1764277200@mnjamaat.com
SUMMARY:Thursday Night Program
DESCRIPTION:Location: Imambargah \n7:30 PM – Surah Yasin\n7:40 PM – Dua Kumail\n8:00 PM – Lecture\n8:35 PM – Ziyarat Waritha\n8:45 PM – Tabarruk
URL:https://mnjamaat.com/event/thursday-night-program-2023-03-02/2025-11-27/
LOCATION:Anjuman-e-Asghari\, 10301 Jefferson Highway\, Brooklyn Park\, MN\, 55445\, United States
CATEGORIES:Mosque Programs
END:VEVENT
BEGIN:VEVENT
DTSTART;TZID=America/Chicago:20251128T132000
DTEND;TZID=America/Chicago:20251128T142000
DTSTAMP:20260423T133827
CREATED:20230215T023431Z
LAST-MODIFIED:20230215T023431Z
UID:11098-1764336000-1764339600@mnjamaat.com
SUMMARY:Salaat-ul-Jumaa (Friday Prayer)
DESCRIPTION:Location: Imambargah \n1:20 PM: Juma Salaat led by Sayyid Muntadher\n2:10 PM: End of Program
URL:https://mnjamaat.com/event/salaat-ul-jumaa-friday-prayer-2023-03-17/2025-11-28/
LOCATION:Anjuman-e-Asghari\, 10301 Jefferson Highway\, Brooklyn Park\, MN\, 55445\, United States
CATEGORIES:Mosque Programs
END:VEVENT
END:VCALENDAR