BEGIN:VCALENDAR
VERSION:2.0
PRODID:-//Anjuman-e-Asghari - ECPv6.9.0//NONSGML v1.0//EN
CALSCALE:GREGORIAN
METHOD:PUBLISH
X-WR-CALNAME:Anjuman-e-Asghari
X-ORIGINAL-URL:https://mnjamaat.com
X-WR-CALDESC:Events for Anjuman-e-Asghari
REFRESH-INTERVAL;VALUE=DURATION:PT1H
X-Robots-Tag:noindex
X-PUBLISHED-TTL:PT1H
BEGIN:VTIMEZONE
TZID:America/Chicago
BEGIN:DAYLIGHT
TZOFFSETFROM:-0600
TZOFFSETTO:-0500
TZNAME:CDT
DTSTART:20250309T080000
END:DAYLIGHT
BEGIN:STANDARD
TZOFFSETFROM:-0500
TZOFFSETTO:-0600
TZNAME:CST
DTSTART:20251102T070000
END:STANDARD
END:VTIMEZONE
BEGIN:VEVENT
DTSTART;TZID=America/Chicago:20251002T193000
DTEND;TZID=America/Chicago:20251002T210000
DTSTAMP:20260423T144907
CREATED:20230215T023114Z
LAST-MODIFIED:20230215T023114Z
UID:11061-1759433400-1759438800@mnjamaat.com
SUMMARY:Thursday Night Program
DESCRIPTION:Location: Imambargah \n7:30 PM – Surah Yasin\n7:40 PM – Dua Kumail\n8:00 PM – Lecture\n8:35 PM – Ziyarat Waritha\n8:45 PM – Tabarruk
URL:https://mnjamaat.com/event/thursday-night-program-2023-03-02/2025-10-02/
LOCATION:Anjuman-e-Asghari\, 10301 Jefferson Highway\, Brooklyn Park\, MN\, 55445\, United States
CATEGORIES:Mosque Programs
END:VEVENT
BEGIN:VEVENT
DTSTART;TZID=America/Chicago:20251003T132000
DTEND;TZID=America/Chicago:20251003T142000
DTSTAMP:20260423T144907
CREATED:20230215T023431Z
LAST-MODIFIED:20230215T023431Z
UID:11062-1759497600-1759501200@mnjamaat.com
SUMMARY:Salaat-ul-Jumaa (Friday Prayer)
DESCRIPTION:Location: Imambargah \n1:20 PM: Juma Salaat led by Sayyid Muntadher\n2:10 PM: End of Program
URL:https://mnjamaat.com/event/salaat-ul-jumaa-friday-prayer-2023-03-17/2025-10-03/
LOCATION:Anjuman-e-Asghari\, 10301 Jefferson Highway\, Brooklyn Park\, MN\, 55445\, United States
CATEGORIES:Mosque Programs
END:VEVENT
BEGIN:VEVENT
DTSTART;TZID=America/Chicago:20251009T193000
DTEND;TZID=America/Chicago:20251009T210000
DTSTAMP:20260423T144907
CREATED:20230215T023114Z
LAST-MODIFIED:20230215T023114Z
UID:11063-1760038200-1760043600@mnjamaat.com
SUMMARY:Thursday Night Program
DESCRIPTION:Location: Imambargah \n7:30 PM – Surah Yasin\n7:40 PM – Dua Kumail\n8:00 PM – Lecture\n8:35 PM – Ziyarat Waritha\n8:45 PM – Tabarruk
URL:https://mnjamaat.com/event/thursday-night-program-2023-03-02/2025-10-09/
LOCATION:Anjuman-e-Asghari\, 10301 Jefferson Highway\, Brooklyn Park\, MN\, 55445\, United States
CATEGORIES:Mosque Programs
END:VEVENT
BEGIN:VEVENT
DTSTART;TZID=America/Chicago:20251010T132000
DTEND;TZID=America/Chicago:20251010T142000
DTSTAMP:20260423T144907
CREATED:20230215T023431Z
LAST-MODIFIED:20230215T023431Z
UID:11064-1760102400-1760106000@mnjamaat.com
SUMMARY:Salaat-ul-Jumaa (Friday Prayer)
DESCRIPTION:Location: Imambargah \n1:20 PM: Juma Salaat led by Sayyid Muntadher\n2:10 PM: End of Program
URL:https://mnjamaat.com/event/salaat-ul-jumaa-friday-prayer-2023-03-17/2025-10-10/
LOCATION:Anjuman-e-Asghari\, 10301 Jefferson Highway\, Brooklyn Park\, MN\, 55445\, United States
CATEGORIES:Mosque Programs
END:VEVENT
BEGIN:VEVENT
DTSTART;TZID=America/Chicago:20251016T193000
DTEND;TZID=America/Chicago:20251016T210000
DTSTAMP:20260423T144907
CREATED:20230215T023114Z
LAST-MODIFIED:20230215T023114Z
UID:11065-1760643000-1760648400@mnjamaat.com
SUMMARY:Thursday Night Program
DESCRIPTION:Location: Imambargah \n7:30 PM – Surah Yasin\n7:40 PM – Dua Kumail\n8:00 PM – Lecture\n8:35 PM – Ziyarat Waritha\n8:45 PM – Tabarruk
URL:https://mnjamaat.com/event/thursday-night-program-2023-03-02/2025-10-16/
LOCATION:Anjuman-e-Asghari\, 10301 Jefferson Highway\, Brooklyn Park\, MN\, 55445\, United States
CATEGORIES:Mosque Programs
END:VEVENT
BEGIN:VEVENT
DTSTART;TZID=America/Chicago:20251017T132000
DTEND;TZID=America/Chicago:20251017T142000
DTSTAMP:20260423T144908
CREATED:20230215T023431Z
LAST-MODIFIED:20230215T023431Z
UID:11066-1760707200-1760710800@mnjamaat.com
SUMMARY:Salaat-ul-Jumaa (Friday Prayer)
DESCRIPTION:Location: Imambargah \n1:20 PM: Juma Salaat led by Sayyid Muntadher\n2:10 PM: End of Program
URL:https://mnjamaat.com/event/salaat-ul-jumaa-friday-prayer-2023-03-17/2025-10-17/
LOCATION:Anjuman-e-Asghari\, 10301 Jefferson Highway\, Brooklyn Park\, MN\, 55445\, United States
CATEGORIES:Mosque Programs
END:VEVENT
BEGIN:VEVENT
DTSTART;TZID=America/Chicago:20251023T193000
DTEND;TZID=America/Chicago:20251023T210000
DTSTAMP:20260423T144908
CREATED:20230215T023114Z
LAST-MODIFIED:20230215T023114Z
UID:11071-1761247800-1761253200@mnjamaat.com
SUMMARY:Thursday Night Program
DESCRIPTION:Location: Imambargah \n7:30 PM – Surah Yasin\n7:40 PM – Dua Kumail\n8:00 PM – Lecture\n8:35 PM – Ziyarat Waritha\n8:45 PM – Tabarruk
URL:https://mnjamaat.com/event/thursday-night-program-2023-03-02/2025-10-23/
LOCATION:Anjuman-e-Asghari\, 10301 Jefferson Highway\, Brooklyn Park\, MN\, 55445\, United States
CATEGORIES:Mosque Programs
END:VEVENT
BEGIN:VEVENT
DTSTART;TZID=America/Chicago:20251024T132000
DTEND;TZID=America/Chicago:20251024T142000
DTSTAMP:20260423T144908
CREATED:20230215T023431Z
LAST-MODIFIED:20230215T023431Z
UID:11072-1761312000-1761315600@mnjamaat.com
SUMMARY:Salaat-ul-Jumaa (Friday Prayer)
DESCRIPTION:Location: Imambargah \n1:20 PM: Juma Salaat led by Sayyid Muntadher\n2:10 PM: End of Program
URL:https://mnjamaat.com/event/salaat-ul-jumaa-friday-prayer-2023-03-17/2025-10-24/
LOCATION:Anjuman-e-Asghari\, 10301 Jefferson Highway\, Brooklyn Park\, MN\, 55445\, United States
CATEGORIES:Mosque Programs
END:VEVENT
BEGIN:VEVENT
DTSTART;TZID=America/Chicago:20251030T193000
DTEND;TZID=America/Chicago:20251030T210000
DTSTAMP:20260423T144908
CREATED:20230215T023114Z
LAST-MODIFIED:20230215T023114Z
UID:11073-1761852600-1761858000@mnjamaat.com
SUMMARY:Thursday Night Program
DESCRIPTION:Location: Imambargah \n7:30 PM – Surah Yasin\n7:40 PM – Dua Kumail\n8:00 PM – Lecture\n8:35 PM – Ziyarat Waritha\n8:45 PM – Tabarruk
URL:https://mnjamaat.com/event/thursday-night-program-2023-03-02/2025-10-30/
LOCATION:Anjuman-e-Asghari\, 10301 Jefferson Highway\, Brooklyn Park\, MN\, 55445\, United States
CATEGORIES:Mosque Programs
END:VEVENT
BEGIN:VEVENT
DTSTART;TZID=America/Chicago:20251031T132000
DTEND;TZID=America/Chicago:20251031T142000
DTSTAMP:20260423T144908
CREATED:20230215T023431Z
LAST-MODIFIED:20230215T023431Z
UID:11074-1761916800-1761920400@mnjamaat.com
SUMMARY:Salaat-ul-Jumaa (Friday Prayer)
DESCRIPTION:Location: Imambargah \n1:20 PM: Juma Salaat led by Sayyid Muntadher\n2:10 PM: End of Program
URL:https://mnjamaat.com/event/salaat-ul-jumaa-friday-prayer-2023-03-17/2025-10-31/
LOCATION:Anjuman-e-Asghari\, 10301 Jefferson Highway\, Brooklyn Park\, MN\, 55445\, United States
CATEGORIES:Mosque Programs
END:VEVENT
END:VCALENDAR